BEGIN:VCALENDAR
VERSION:2.0
PRODID:icalendar-ruby
CALSCALE:GREGORIAN
METHOD:PUBLISH
BEGIN:VEVENT
DTSTAMP:20260421T100111Z
UID:99-688758@cwcmv.org
DTSTART:20260603T190000Z
DTEND:20260603T220000Z
CLASS:PUBLIC
CREATED:20260420T120438
DESCRIPTION:Ladies\, join us for relaxing days of summer fun at the Wolf's!
  We’re hosting an open swim for ladies of all ages and stages. Whether y
 ou want to lounge poolside\, enjoy some great fellowship\, or cool off in 
 the water\, we’d love to see you there.\n\n\nWhat to bring: Pack a lunch
  to enjoy\, or feel free to eat before you arrive.\n\n\nActivities: Enjoy 
 the pool\, lounge on the deck\, or just chat!\n\n\nWe look forward to a gr
 eat day of sun and community!
LAST-MODIFIED:20260420T120438
LOCATION:The Wolf's Home
SUMMARY:Swim Wednesdays
URL;VALUE=URI:https://cwcmv.org/events/swim-wednesdays/2026-06-03
ATTACH;FILENAME=crosswinds-church-moreno-valley_swim-wednesday_202606.jpg;F
 MTTYPE=image/jpeg:https://dq5pwpg1q8ru0.cloudfront.net/2026/04/17/22/42/11
 /fcc521da-5ab4-40f7-86d8-eb034c476e95/crosswinds-church-moreno-valley_swim
 -wednesday_202606.jpg
END:VEVENT
END:VCALENDAR
