BEGIN:VCALENDAR
VERSION:2.0
PRODID:icalendar-ruby
CALSCALE:GREGORIAN
METHOD:PUBLISH
BEGIN:VEVENT
DTSTAMP:20260425T201731Z
UID:29-694932@cwcmv.org
DTSTART;VALUE=DATE:20260528
DTEND;VALUE=DATE:20260528
CLASS:PUBLIC
CREATED:20260422T091754
DESCRIPTION:Discover how God uniquely gifted you to live your purpose. This
  class will help you identify your gifts and equip you to apply them in se
 rving your world. This class is taught over three 2-hour classes (Thursday
  Evenings) and requires materials for $15. Childcare is available upon req
 uest.\nSign-up for the next class by clicking below!
LAST-MODIFIED:20260422T091754
LOCATION:
SUMMARY:Step-OUT
URL;VALUE=URI:https://cwcmv.org/events/step-out--29/2026-05-28
ATTACH;FILENAME=crosswinds-church-moreno-valley_step-out-spiritual-gifts-cl
 ass.jpg;FMTTYPE=image/jpeg:https://dq5pwpg1q8ru0.cloudfront.net/2025/02/07
 /17/49/01/2ac760f7-1ebd-4bd4-ac3a-5539afd7a28d/crosswinds-church-moreno-va
 lley_step-out-spiritual-gifts-class.jpg
END:VEVENT
END:VCALENDAR
