BEGIN:VCALENDAR
VERSION:2.0
PRODID:icalendar-ruby
CALSCALE:GREGORIAN
METHOD:PUBLISH
BEGIN:VEVENT
DTSTAMP:20260426T004426Z
UID:101-693249@cwcmv.org
DTSTART:20260619T160000Z
DTEND:20260619T180000Z
CLASS:PUBLIC
CREATED:20260421T161120
DESCRIPTION:Join us Friday mornings in Summer for a time of connection and
  fun at our new playground!\n\n\nFor the Littles: Enjoy the new playground
  before the summer heat kicks in.\n\n\nFor the Moms\, Grandmas\, &amp\; C
 aregivers: Relax and connect while the kids play.\n\n\nFor the "Empty Nest
 ers" &amp\; Mentors: Even if your kids are grown\, we want you here! Come 
 share your wisdom\, offer encouragement\, and enjoy fellowship with women 
 in the "little years."\n\n\nIt’s more than just a playdate—it’s a ch
 ance for generations to walk life together - Growing with Jesus and Going 
 to Your Worlds.
LAST-MODIFIED:20260421T161120
LOCATION:
SUMMARY:Playground Fridays
URL;VALUE=URI:https://cwcmv.org/events/playground-fridays/2026-06-19
ATTACH;FILENAME=crosswinds-church-moreno-valley_plaground-fridays_2026.jpg;
 FMTTYPE=image/jpeg:https://dq5pwpg1q8ru0.cloudfront.net/2026/04/21/23/11/2
 0/a93bad9f-4981-4582-9f76-9fc72354314c/crosswinds-church-moreno-valley_pla
 ground-fridays_2026.jpg
END:VEVENT
END:VCALENDAR
