BEGIN:VCALENDAR
VERSION:2.0
PRODID:icalendar-ruby
CALSCALE:GREGORIAN
METHOD:PUBLISH
BEGIN:VEVENT
DTSTAMP:20260423T101313Z
UID:98-692689@cwcmv.org
DTSTART:20260530T160000Z
DTEND:20260530T183000Z
CLASS:PUBLIC
CREATED:20260421T151801
DESCRIPTION:Step into a morning of style\, sisterhood\, and spirit! Join us
  for a beautiful brunch and a unique fashion show that celebrates our iden
 tity as a New Creation in Christ. It’s more than just a runway—it’s 
 a powerful message of hope and transformation.\n\n\nThe Experience: Enjoy 
 a decadent brunch while watching a curated fashion show with a meaningful 
 message.\n\n\nShop for a Cause: Browse an on-site pop-up shop featuring th
 e Discovery Shop in Redlands. All proceeds from the shop support the Ameri
 can Cancer Society.\n\n\nGive &amp\; Win: Enter our "Opportunity Basket" d
 rawings for a chance to take home some wonderful prizes.\n\n\nTickets: $10
  This is the perfect opportunity to invite a friend\, neighbor\, or cowork
 er to experience a morning of encouragement. Grab your tickets today and s
 hare the hope! - Registration opens soon!\n(For Women 18 years or older)
LAST-MODIFIED:20260421T151801
LOCATION:
SUMMARY:New Creation Fashion Show
URL;VALUE=URI:https://cwcmv.org/events/new-creation-fashion-show/2026-05-30
ATTACH;FILENAME=crosswinds-church-moreno-valley_new-creation-fashion-show-a
 _202605.jpg;FMTTYPE=image/jpeg:https://dq5pwpg1q8ru0.cloudfront.net/2026/0
 4/21/22/18/00/86aff02e-9de2-42fb-937e-4d212b64bb50/crosswinds-church-moren
 o-valley_new-creation-fashion-show-a_202605.jpg
END:VEVENT
END:VCALENDAR
