BEGIN:VCALENDAR
VERSION:2.0
PRODID:icalendar-ruby
CALSCALE:GREGORIAN
METHOD:PUBLISH
BEGIN:VEVENT
DTSTAMP:20260425T200540Z
UID:95-651727@cwcmv.org
DTSTART;VALUE=DATE:20260510
DTEND;VALUE=DATE:20260510
CLASS:PUBLIC
CREATED:20260409T110619
DESCRIPTION:Thank you moms for being our rock\, our safe place\, our encour
 ager\, our prayer warrior\, &amp\; our friend. We love you!\nJoin us on th
 is special Sunday for chocolates\, carnations\, and a family picture.
LAST-MODIFIED:20260409T110619
LOCATION:
SUMMARY:Mother's Day
URL;VALUE=URI:https://cwcmv.org/events/mothers-day--95/2026-05-10
ATTACH;FILENAME=crosswinds-church-moreno-valley_mothers-day-header-2026.jpg
 ;FMTTYPE=image/jpeg:https://dq5pwpg1q8ru0.cloudfront.net/2026/04/09/18/06/
 18/b167ade1-ffca-4c62-b10a-d15d0518567c/crosswinds-church-moreno-valley_mo
 thers-day-header-2026.jpg
END:VEVENT
END:VCALENDAR
