BEGIN:VCALENDAR
VERSION:2.0
PRODID:icalendar-ruby
CALSCALE:GREGORIAN
METHOD:PUBLISH
BEGIN:VEVENT
DTSTAMP:20260421T100213Z
UID:51-672026@cwcmv.org
DTSTART;VALUE=DATE:20260419
DTEND;VALUE=DATE:20260419
CLASS:PUBLIC
CREATED:20260415T115211
DESCRIPTION:Join us for Missions Sunday as we welcome one of our newest sup
 ported missionaries\, Jerry Pasiliao. Jerry will be sharing an inspiring u
 pdate on the work God is doing and his family’s vision for the future.\n
 We are excited to hear firsthand about the plans Jerry and his wife Grace 
 have to launch Church of Renewal Los Angeles (CoR\, LA)\, a new church pla
 nt in the heart of downtown Los Angeles. It’s a wonderful opportunity to
  learn how we can support this new community and the Pasiliao family—inc
 luding their one-year-old baby—as they embark on this journey.
LAST-MODIFIED:20260415T115211
LOCATION:
SUMMARY:Missions Sunday
URL;VALUE=URI:https://cwcmv.org/events/missions-sunday/2026-04-19
ATTACH;FILENAME=crosswinds-church-moreno-valley_missions-sunday-202604.jpg;
 FMTTYPE=image/jpeg:https://dq5pwpg1q8ru0.cloudfront.net/2026/03/31/22/09/5
 1/00261003-7ae5-40be-847a-02686d3837b8/crosswinds-church-moreno-valley_mis
 sions-sunday-202604.jpg
END:VEVENT
END:VCALENDAR
