BEGIN:VCALENDAR
VERSION:2.0
PRODID:icalendar-ruby
CALSCALE:GREGORIAN
METHOD:PUBLISH
BEGIN:VEVENT
DTSTAMP:20260425T213231Z
UID:96-600016@cwcmv.org
DTSTART;VALUE=DATE:20260621
DTEND;VALUE=DATE:20260621
CLASS:PUBLIC
CREATED:20260324T100507
DESCRIPTION:Happy Fathers’ Day! We’d love to thank you for all you do. 
 Grab a bottle of Dad’s Root Beer after service and a picture with your f
 amily!\n\n“Just as you know how we are exhorting and encouraging and imp
 loring each one of you as a father would his own children\, so that you wo
 uld walk in a manner worthy of the God who calls you into His own kingdom 
 and glory.” – I Thessalonians 2:11-12\n
LAST-MODIFIED:20260324T100507
LOCATION:
SUMMARY:Father's Day
URL;VALUE=URI:https://cwcmv.org/events/fathers-day--96/2026-06-21
ATTACH;FILENAME=crosswinds-church_moreno-valley_fathers-day-2026_2.jpg;FMTT
 YPE=image/jpeg:https://dq5pwpg1q8ru0.cloudfront.net/2026/03/24/17/05/07/45
 6b5102-3486-4287-99ef-403d14bfdfcb/crosswinds-church_moreno-valley_fathers
 -day-2026_2.jpg
END:VEVENT
END:VCALENDAR
