BEGIN:VCALENDAR
VERSION:2.0
PRODID:icalendar-ruby
CALSCALE:GREGORIAN
METHOD:PUBLISH
BEGIN:VEVENT
DTSTAMP:20260421T100747Z
UID:100-688755@cwcmv.org
DTSTART:20260617T020000Z
DTEND:20260617T033000Z
CLASS:PUBLIC
CREATED:20260420T120252
DESCRIPTION:Whether you are a seasoned student of the Bible or have never o
 pened one before\, this is the place for you! We will be using the Inducti
 ve Study Method to explore specific topics and passages together. If you
 ’ve never studied this way\, don't worry—we’ll learn the process sid
 e-by-side as we go.\nThis is a space for ladies of all stages (18+) to gat
 her for authentic fellowship and meaningful discovery.\nSummer Schedule an
 d Topics\nWe meet once a month to take a "Deep Dive" into these specific a
 reas:\n\n\nJune 16th | The Power of the Tongue Exploring the weight of our
  words and what Scripture says about our speech.\n\n\nJuly 21st | Relation
 ships &amp\; Taboo Topics A candid\, biblical look at relationships\, inti
 macy\, and the subjects we often shy away from.\n\n\nAugust 25th | New Cre
 ation vs. Old Nature Understanding our identity in Christ and the daily wa
 lk of transformation.\n\n
LAST-MODIFIED:20260420T120252
LOCATION:
SUMMARY:BYOBF
URL;VALUE=URI:https://cwcmv.org/events/byobf/2026-06-16
ATTACH;FILENAME=crosswinds-church-moreno-valley_BYOBF-202606.jpg;FMTTYPE=im
 age/jpeg:https://dq5pwpg1q8ru0.cloudfront.net/2026/04/17/22/22/20/f6031cf0
 -3438-41cb-8a85-9a44cea02fa6/crosswinds-church-moreno-valley_BYOBF-202606.
 jpg
END:VEVENT
END:VCALENDAR
